Workbook

Sheet Summary 
A1: Sites and Buildings
A2: Sheet Number | B2: Title | C2: Location | D2: Total Replacement Price /Valuation
A3: 1 | B3: Sites and Buildings | C3: Various | D3: =('1. Sites and Buildings'!D22) -> 1309264
A4: 2 | B4: Nelson House and Office Equipment | C4: Nelson House, 2 White Lion Street, Holt, NR25 6BA | D4: =('2. Nelson House Office Equip'!D98) -> 18511
A5: 3 | B5: Play and Recreational Equipment | C5: Various | D5: =('3. Play and Rec Equip'!E30) -> 120771
A6: 4 | B6: Street Furniture | C6: Various | D6: =('4. Street Furniture'!E106) -> 184204
A7: 5 | B7: Playing Fields Container | C7: Woodfield Road, Holt | D7: =('5. Playing Fields - Container'!G42) -> 22904
A8: 6 | B8: Shed Cemetery | C8: Cley Road Cemetery | D8: =('6. Shed - Cemetery'!D34) -> 1656
A9: 7 | B9: Small Shed Cemetery | C9: Cley Road Cemetery | D9: =('7. Small Shed Cemetery '!D11) -> 250
A10: 8 | B10: Brick Building Cemetery | C10: Cley Road Cemetery | D10: =('8. Brick Shed'!G29) -> 3709
A11: 9 | B11: Spout Hills Container | C11: Letheringsett Hill Car Park, Holt, NR25 6BL | D11: =('9. Spout Hills -Container'!G27) -> 13457
A12: 10 | B12: Street Lights | C12: Various | D12: =('10. Streetlights'!G98) -> 53950
A13: 11 | B13: Church Street Toilets | C13: Church Street Toilets, Church Street, NR25 6BB | D13: =('11. Church St Toilets '!E44) -> 13327
B15: Total Price | D15: =SUM(D3:D14) -> 1742003

Sheet 1. Sites and Buildings
A1: Sites and Buildings
A2: Item | B2: Location | C2: Condition | D2: Replacement Price /Valuation
A3: Nelson House and TIC | B3: 2 White Lion Street, Holt, NR25 6BA | C3: Good | D3: 781210
A4: Church Street Toilets | B4: Church Street, Holt, NR25 6BB | C4: Good | D4: 225000
A5: Memorial Gardens | B5: Albert Street, NR25 6HX | C5: Good | D5: 1
A6: George V Play Area | B6: Peacock Lane, NR25 6HB | C6: Good | D6: 1
A7: Spout Hills | B7: Letheringsett Hill, NR25 6BL | C7: Good | D7: 1
A8: Little Hills | B8: Letheringsett Hill, NR25 6JN | C8: Good | D8: 1
A9: Coronation Gym Park | B9: Land off Thompson Ave, Holt, NR25 6EN | C9: Good | D9: 1
A10: Communtity Orchard / Philip High Memorial | B10: Land off Beresford Road, Holt, NR25 6EW | C10: Good | D10: 1
A11: Spout Hills Container | B11: Letheringsett Hill, NR25 6BL | C11: Good | D11: 2605
A12: Playing Fields Container | B12: Woodfield Road, Holt, NR25 6TX | C12: Good | D12: 2605
A13: Cley Road Cemetery | B13: 42 Cley Road, Holt, NR25 6JG | C13: Good | D13: 1
A14: Cemetery Shed - Brick Built | B14: 42 Cley Road, Holt, NR25 6JG | C14: Fair | D14: 30165
... A19: Small Wooden Shed | B19: 42 Cley Road, Holt, NR25 6JG | C19: Fair | D19: 500
A22: Total | D22: =SUM(D3:D21) -> 1309264

Sheet 2. Nelson House Office Equip
A1: Nelson House
A2: Item | B2: Location | C2: Condition | D2: Replacement Price
A3: Brass Bell | B3: Ouside of Building by the Front Door | C3: Fair | D3: 50
A4: Doorbell | B4: Ouside of Building by the Front Door | C4: Fair/Poor | D4: 20
A5: Blind x2 | B5: On the Front Door and Back door | C5: Good | D5: 75
A6: Notice Boards x2 | B6: Outside the building | C6: Good | D6: 3000
A7: Wooden Owl Signpost | B7: Outside the building | C7: Good | D7: 1000
A8: TIC Swing Sign | B8: Outside the building | C8: Good | D8: 1000
A9: Large wooden Table | B9: TIC | C9: Good | D9: 300
A10: Display units x 8 | B10: TIC | C10: Good | D10: 600
A11: Display Cabinent x2 Ikea | B11: TIC | C11: Good | D11: 150
A12: Leaflets | B12: TIC | C12: n/a | D12: n/a
A13: Small Desk | B13: TIC | C13: Good | D13: 50
A14: Office Chairs x2 | B14: TIC | C14: Excellent | D14: 200
A15: Large White Board x2 | B15: TIC | C15: Good | D15: 65
A16: Small White Board x1 | B16: TIC | C16: Good | D16: 45
A17: Shelf Unit x1 (white) | B17: TIC | C17: Good | D17: 35
A18: Drawer Unit x1 (pine) | B18: TIC | C18: Good | D18: 60
A19: Alarm Sensor x2 | B19: TIC | C19: Good | D19: 120
A20: Framed Picture Nelson | B20: TIC | C20: Good | D20: 0
A21: Framed Picture Large Market Place | B21: TIC | C21: Good | D21: 0
A22: Framed Picture Beach Huts | B22: TIC | C22: Good | D22: 0
A23: Kettle | B23: Kitchen | C23: Fair | D23: 20
A24: Glasses | B24: Kitchen | C24: Fair | D24: 20
... A28: Dishwasher | B28: Kitchen | C28: Fair | D28: 250
A29: Cleaning Consumables | B29: Kitchen | C29: n/a | D29: n/a
A30: Tea and Coffee | B30: Kitchen | C30: n/a | D30: n/a
A31: Tea Towels | B31: Kitchen | C31: n/a | D31: 5
A32: Fridge | B32: Hallway | C32: Good | D32: 250
A33: Large Safe | B33: Hallway | C33: Good | D33: n/a
A34: Small Safe | B34: Hallway | C34: Good | D34: n/a
A35: CCTV Camera | B35: Hallway | C35: Good | D35: 1000
A36: Alarm Sensor x2 | B36: Hallway | C36: Good | D36: 120
A37: Large Oval Table | B37: Meeting Room | C37: Good | D37: 300
A38: Corner Table | B38: Meeting Room | C38: Good | D38: 50
A39: X6 cushioned chairs | B39: Meeting Room | C39: Fair | D39: 240
A40: x2 Wooden Chairs | B40: Meeting Room | C40: Fair | D40: 50
A41: Wooden Desk | B41: Meeting Room | C41: Fair | D41: 50
A42: Epson Printer old and not working | B42: Meeting Room | C42: Poor | D42: 0
A43: Framed Picture - dog | B43: Meeting Room | C43: Good | D43: 0
A44: Framed Picture - King | B44: Meeting Room | C44: Good | D44: 250
A45: Framed Picture | B45: Meeting Room | C45: Good | D45: 0
A46: Framed Picture | B46: Meeting Room | C46: Good | D46: 0
... A51: Glass Display Unit x2 | B51: Back Room Downstairs | C51: Fair | D51: 200
A52: Gifted Owls | B52: Back Room Downstairs | C52: Fair | D52: n/a
A53: Large Display Boards x5 | B53: Back Room Downstairs | C53: Fair | D53: n/a
A54: Gifted cushioned chairs x6 | B54: Back Room Downstairs | C54: Fair | D54: n/a
A55: Low pine table | B55: Back Room Downstairs | C55: Fair | D55: 35
A56: Bench | B56: Back Garden | C56: Fair | D56: 45
A57: Watering can | B57: Back Garden | C57: Fair | D57: 15
A58: Plant pots x 5 | B58: Back Garden | C58: Fair | D58: 150
A59: Large pine table | B59: Upstairs Meeting Room | C59: Fair | D59: 75
A60: Pine chairs x5 | B60: Upstairs Meeting Room | C60: Fair | D60: 125
A61: Two tub chairs | B61: Upstairs Meeting Room | C61: Fair | D61: 0
A62: Two desks | B62: Horatios Quarters | C62: Fair | D62: 50
A63: Two office chairs | B63: Horatios Quarters | C63: Fair | D63: 200
A64: shelving unit | B64: Horatios Quarters | C64: Fair | D64: 25
A65: small under desk drawer unit x3 | B65: Horatios Quarters | C65: Fair | D65: 20
A66: Large Hired Printer | B66: Horatios Quarters | C66: Good | D66: n/a
A67: Filing cabinents x4 | B67: Horatios Quarters | C67: Fair | D67: 80
A68: large two door filing cabinent x2 | B68: Horatios Quarters | C68: Fair | D68: 120
A69: Small Table | B69: Horatios Quarters | C69: Fair | D69: 10
A70: Blind in Window | B70: Horatios Quarters | C70: Fair | D70: 15
A71: Phone units x2 | B71: Horatios Quarters | C71: Excellent | D71: 75
A72: Desktop Computer, mouse, screen and keyboard x1 | B72: Horatios Quarters | C72: Excellent | D72: 420
A73: Laptop (mobile) | B73: Horatios Quarters | C73: Good | D73: 650
A74: one small computer screen | B74: Horatios Quarters | C74: Excellent | D74: 80
A75: One large computer screen | B75: Horatios Quarters | C75: Excellent | D75: 120
A76: Mouse and keyboard | B76: Horatios Quarters | C76: Excellent | D76: 40
A77: Laminator A3 | B77: Horatios Quarters | C77: Good | D77: 40
A78: Laminator A4 | B78: Horatios Quarters | C78: Fair | D78: 25
... A81: CCTV Box and Screen | B81: Small Computer Room | C81: Excellent | D81: 1500
A82: Spare phones x2 | B82: Small Computer Room | C82: Excellent | D82: n/a
A83: Binding machine and associated stationery | B83: Small Computer Room | C83: Good | D83: 36
A84: Meeting box with gavel | B84: Small Computer Room | C84: Fair | D84: 25
A85: Captains Desk | B85: Town Ranger Office | C85: Good | D85: 120
A86: HP Printer | B86: Town Ranger Office | C86: Fair | D86: 65
A87: Desktop Computer, mouse, screen and keyboard x1 | B87: Town Ranger Office | C87: Excellent | D87: 420
A88: Battery Chargers x3 | B88: Town Ranger Office | C88: Fair | D88: 100
A89: Large storage unit x1 | B89: Town Ranger Office | C89: Fair | D89: 50
A90: Drawer Unit x1 (pine) | B90: Town Ranger Office | C90: Fair | D90: 65
A91: Small Filing cabinent | B91: Town Ranger Office | C91: Fair | D91: 50
A92: Display Boards x2 bags | B92: Loft | C92: Fair | D92: 50
A93: Gazebo large x1 Argos | B93: Loft | C93: Fair | D93: 100
A94: Boxed Files | B94: Loft | C94: Fair | D94: n/a
A95: Large pictures x6 | B95: Loft | C95: Fair | D95: 0
A96: Regalia | B96: Mayor | C96: Good | D96: 3200
A98: Total | D98: =SUM(D3:D97) -> 18511

Sheet 3. Play and Rec Equip
A1: Play and Rec Equipment
A2: Site | B2: Item | C2: Location | D2: Condition | E2: Replacement Price
A3: George V | B3: Pedestrian Gate | C3: Peacock lane, Holt, NR25 6HB | D3: Good | E3: 657
B4: Vehicle Gate | C4: Peacock lane, Holt, NR25 6HB | D4: Good | E4: 225
B5: Surface Soft Fill | C5: Peacock lane, Holt, NR25 6HB | D5: Good | E5: 2880
B6: Roundabout Surface | C6: Peacock lane, Holt, NR25 6HB | D6: Good | E6: 10000
B7: Accessible Roundabout | C7: Peacock lane, Holt, NR25 6HB | D7: Good | E7: 6995
B8: Springer | C8: Peacock lane, Holt, NR25 6HB | D8: Good | E8: 1097
B9: Small Swings | C9: Peacock lane, Holt, NR25 6HB | D9: Good | E9: 2095
B10: Fort with steps and slide | C10: Peacock lane, Holt, NR25 6HB | D10: Good | E10: 20000
B11: Small Play House, bridge and slide | C11: Peacock lane, Holt, NR25 6HB | D11: Good | E11: 22513
B12: Goal Posts | C12: Peacock lane, Holt, NR25 6HB | D12: Good | E12: 3000
B13: Bucket swing | C13: Peacock lane, Holt, NR25 6HB | D13: Good | E13: 3590
B14: Rope Challenge Climbing Frame | C14: Peacock lane, Holt, NR25 6HB | D14: Good | E14: 12324
B15: Supernova Roundabout | C15: Peacock lane, Holt, NR25 6HB | D15: Good | E15: 4500
... B17: Zip Wire | C17: Peacock lane, Holt, NR25 6HB | D17: Good | E17: 9995
A18: Gym Park | B18: Double Air Walker | C18: Land off Thompson Ave, Holt, NR25 6EN | D18: Good | E18: 2135
B19: Double Air Walker | C19: Land off Thompson Ave, Holt, NR25 6EN | D19: Good | E19: 2135
B20: Air Skier | C20: Land off Thompson Ave, Holt, NR25 6EN | D20: Good | E20: 1403
B21: Outdoor Exercise Bike | C21: Land off Thompson Ave, Holt, NR25 6EN | D21: Good | E21: 1500
B22: Combination pull down and chest press | C22: Land off Thompson Ave, Holt, NR25 6EN | D22: Good | E22: 2000
B23: Double cross - country skier | C23: Land off Thompson Ave, Holt, NR25 6EN | D23: Good | E23: 2069
B24: Seated leg press | C24: Land off Thompson Ave, Holt, NR25 6EN | D24: Good | E24: 1600
B25: Hip Twister | C25: Land off Thompson Ave, Holt, NR25 6EN | D25: Good | E25: 1558
B26: Big Turning Wheel | C26: Land off Thompson Ave, Holt, NR25 6EN | D26: Good | E26: 1000
B27: Hip Swing | C27: Land off Thompson Ave, Holt, NR25 6EN | D27: Good | E27: 1000
A30: Total | E30: =SUM(E3:E29) -> 120771

Sheet 4. Street Furniture
A1: Street Furniture
A2: Category | B2: Item | C2: Location | D2: Condition | E2: Replacement Price
A3: Bus Shelters and Clock | B3: Memorial Bus Shelter | C3: Market Place, Holt, NR25 6BB | D3: Good | E3: 36812
B4: Memorial Shelter Clock | C4: Market Place, Holt, NR25 6BB | D4: Good | E4: 4930
B5: Cromer Road Bespoke (Train)Bus Shelter | C5: Cromer Road, Holt, NR25 6FR | D5: Good | E5: 40000
B6: Cromer Road Standard Shelter | C6: Cromer Road, Holt, NR25 6FP | D6: Good | E6: 6000
B7: Coronation Road Shelter | C7: Coronation Road, Holt, NR25 6BU | D7: Good | E7: 6000
A8: Benches | B8: Library Garden Bench | C8: The Library Church Street | D8: Good | E8: 330
B9: Library Wooden Bench | C9: the Library Church Street | D9: Good | E9: 330
B10: Millenium Bus Stop Left | C10: Market Place, Holt, NR25 6BB | D10: Good | E10: 330
B11: Millenum Bus Shelter Bench (inside) | C11: Market Place, Holt, NR25 6BB | D11: Good | E11: 330
B12: Millenium Bus Stop Right | C12: Market Place, Holt, NR25 6BB | D12: Good | E12: 330
B13: Fish Star Plain Under the Tree | C13: White Lion Street NR25 6BA | D13: Good | E13: 330
B14: RC Gray Bench | C14: Corner of White Lion Street and Bull Street | D14: Good | E14: 330
B15: Harris and James bench | C15: Ouside Harris and James Market Place Holt | D15: Good | E15: 330
B16: Butcher Andrews - Hastings | C16: Wooden Bench High Street | D16: Good | E16: 330
B17: Chubby Seal bench | C17: Courtyard opp Chubby Seal | D17: Good | E17: 330
B18: Shirehall Plain bench | C18: Shirehall Holt | D18: Good | E18: 330
B19: Fish Hill benches x6 | C19: Gabion Benches Fish Hill | D19: Good | E19: 2400
B20: Bank Hub bench 1 | C20: High Street Holt | D20: Poor | E20: 330
... B58: Richards Bench | C58: Orchard off Beresford Road | D58: Good | E58: 330
A59: Slates | B59: Jubilee Slates | C59: Fish Hill | D59: Good | E59: 12000
B60: Doomsday Slates | C60: Memorial Gardens | D60: Good | E60: 12000
A61: SAM2 | B61: SAM2 Speeding Device | C61: Various Locations around Town | D61: Good | E61: 4000
A62: Defibs | B62: DefibTech Lifeline View with Cabinet | C62: Harris and James | D62: Good | E62: 2000
B63: DefibTech Lifeline View with Cabinet | C63: Sponge | D63: Good | E63: 2000
B64: DefibTech Lifeline View with Cabinet | C64: Police Station | D64: Good | E64: 2000
B65: DefibTech Lifeline View with Cabinet | C65: Budgens | D65: Good | E65: 2000
B66: Cardiac Science with Cabinet | C66: Shirehall Plain | D66: Good | E66: 2000
B67: DefibTech Lifeline View with Cabinet | C67: Football Club | D67: Good | E67: 2000
A68: BT Phone Box | B68: Phone Box | C68: Shirehall Plain | D68: Good | E68: 1
A69: Litter Bins | B69: Wooden style Bin | C69: Fish Hill | D69: Good | E69: 200
B70: Wooden style Bin | C70: Fish Hill | D70: Good | E70: 200
B71: Green Bin Gold Lettering | C71: George V | D71: Good | E71: 200
B72: Green Bin Gold Lettering | C72: George V | D72: Good | E72: 200
B73: Green Bin Gold Lettering | C73: Gym Park | D73: Good | E73: 200
B74: Green Bin Gold Lettering | C74: Spout Hills by Layby | D74: Good | E74: 200
B75: Green Bin Gold Lettering | C75: Spout Hills by Container | D75: Good | E75: 200
B76: Green Bin Gold Lettering | C76: Spout Hills Town Meadow | D76: Good | E76: 200
B77: Green Bin Gold Lettering | C77: Memorial Gardens | D77: Good | E77: 200
B78: Green Bin Gold Lettering | C78: Memorial Gardens | D78: Good | E78: 200
B79: Green Bin Gold Lettering | C79: Little Hills | D79: Good | E79: 200
A80: Signage | B80: Great Fire Information Board | C80: Shirehall Plain | D80: Excellent | E80: 3021
B81: Welcome Sign Spout Hills | C81: Layby Entrance | D81: Good | E81: 50
B82: Welcome Sign Spout Hills | C82: Container Entrance | D82: Good | E82: 50
B83: Welcome Sign Spout Hills | C83: Railway Meadow - Spout Hills | D83: Good | E83: 50
B84: Interpretation Board Spout Hills | C84: By the Pond | D84: Good | E84: 50
B85: Welcome sign Church Street Toilets | C85: Entrance on Gate | D85: Good | E85: 50
B86: Welcome sign Church Street Toilets | C86: On wall | D86: Good | E86: 50
B87: Welcome Sign George V | C87: Entrance by gate | D87: Good | E87: 50
B88: Welcome Sign Little Hills | C88: Entrance Town Close | D88: Good | E88: 50
B89: Welcome Sign Little Hills | C89: Entrance Letheringsett Hill | D89: Good | E89: 50
B90: Gym Park | C90: By Bench | D90: Good | E90: 50
B91: Community Orchard | C91: Entrance | D91: Good | E91: 50
B92: Philip High Memorial Sign | C92: By Orchard | D92: Good | E92: 30
B93: Welcome sign Cemetery | C93: On Gate | D93: Good | E93: 30
A94: Noticeboards | B94: Cemetery | C94: Cemetery | D94: Poor | E94: 300
B95: Woodrow Ave | C95: Woodrow Ave | D95: Poor | E95: 300
B96: Nelson House | C96: See sites and Buildings tab | D96: See sites and Buildings tab | E96: See sites and Buildings tab
A97: Planters | B97: Nelson House x2 | E97: 300
B98: Owl Tea Rooms x1 | E98: 250
B99: Joules x1 | E99: 250
B100: Fish Hill x3 | E100: 15000
B101: Chapel Yard x3 | E101: 7500
B102: War Memorial x3 | E102: 260
B103: Shirehall | E103: 250
B104: Sowerbys | E104: 250
A105: Owls Roundabout | B105: A148 Norwich Rd Roundabout | E105: 730
A106: Total | E106: =SUM(E3:E105) -> 184204

Sheet 5. Playing Fields - Container
A1: Container Playing Fields
A2: Category | B2: Item | C2: Model Number | D2: Serial Number | E2: Location | F2: Condition | G2: Replacement Price
A3: Power Tools | B3: Generator Model IG20SI | C3: LC3500LS | E3: Woodfield Road, Holt | F3: Good | G3: 1175
B4: Leaf Blower Model BR 600 | C4: 542886553 | D4: 42829673302E | E4: Woodfield Road, Holt | F4: Good | G4: 629
B5: Chainsaw Model MS 251 | C5: 195738837 | D5: 11439673305D | E5: Woodfield Road, Holt | F5: Good | G5: 500
B6: Hedgetrimmer Model HS45 | C6: 836684159 | D6: 42289673303B | E6: Woodfield Road, Holt | F6: Good | G6: 250
B7: Pressure Washer Model RE 110 PLUS | C7: 835312546 | D7: 49509671821 A | E7: Woodfield Road, Holt | F7: Good | G7: 270
B8: Strimmer Model FS56C | C8: 543799269 | D8: 41449673302 D | E8: Woodfield Road, Holt | F8: Good | G8: 350
B9: Long Reach Hedge Trimmer Model HL94C | C9: 542995738 | D9: 42439673304 C | E9: Woodfield Road, Holt | F9: Good | G9: 800
B10: Harness | E10: Woodfield Road, Holt | F10: Good | G10: 65
B11: Kubota | E11: Woodfield Road, Holt | F11: Fair | G11: 15000
B12: D R Strimmer | C12: TR4875PRO-XL | E12: Woodfield Road, Holt | F12: Good | G12: 819
B13: Cobra Push Mower | E13: Woodfield Road, Holt | F13: Good | G13: 400
B14: Toro Twin Mower | C14: TIMEMASTERTM76 | E14: Woodfield Road, Holt | F14: Good | G14: 1449
B15: G TECH Hedgecutter | E15: Woodfield Road, Holt | F15: Good | G15: 150
A16: Hand Tools | B16: Wolfgarten Pole | E16: Woodfield Road, Holt | F16: Good | G16: 115
B17: cutter | E17: Woodfield Road, Holt | F17: Good | G17: 50
B18: pick axe | E18: Woodfield Road, Holt | F18: Good | G18: 30
B19: loppers | E19: Woodfield Road, Holt | F19: Good | G19: 47
B20: edging shears | E20: Woodfield Road, Holt | F20: Good | G20: 30
B21: sledge hammer | E21: Woodfield Road, Holt | F21: Good | G21: 30
B22: shovel x2 | E22: Woodfield Road, Holt | F22: Good | G22: 40
B23: spade | E23: Woodfield Road, Holt | F23: Good | G23: 20
B24: wire rake | E24: Woodfield Road, Holt | F24: Good | G24: 20
B25: lawn rake | E25: Woodfield Road, Holt | F25: Good | G25: 20
B26: dutch hoe | E26: Woodfield Road, Holt | F26: Good | G26: 22
B27: hoe | E27: Woodfield Road, Holt | F27: Good | G27: 25
B28: brooms x3 | E28: Woodfield Road, Holt | F28: Good | G28: 50
... B30: leaf hands | E30: Woodfield Road, Holt | F30: Good | G30: 8
A31: Fuel | B31: Petrol cans x4 | E31: Woodfield Road, Holt | F31: Good | G31: 40
B32: funnels | E32: Woodfield Road, Holt | F32: Good | G32: 10
A33: Misc | B33: Various Hand Tools for maintenance of equipment | E33: Woodfield Road, Holt | F33: Good | G33: 100
B34: Rachet Straps x4 | E34: Woodfield Road, Holt | F34: Good | G34: 30
A35: Ladders | B35: Double Extension | E35: Woodfield Road, Holt | F35: Good | G35: 150
B36: Step Ladder | E36: Woodfield Road, Holt | F36: Good | G36: 50
A37: Other | B37: Tamper Tool | E37: Woodfield Road, Holt | F37: Good | G37: 51
B38: Helmets x3 | E38: Woodfield Road, Holt | F38: Good | G38: 87
A42: Total | G42: =SUM(G3:G41) -> 22904

Sheet 6. Shed -  Cemetery
A1: Shed - Cemetery
A2: Item | B2: Location | C2: Condition | D2: Replacement Price
A3: Wooden shelf unit | C3: Poor | D3: 100
A4: orange flexible fencing | C4: Good | D4: 15
A5: Collapsible garden waste bag | C5: Poor | D5: 15
A6: Bulb planting tool | C6: Good | D6: 36
A7: Dibber | C7: Good | D7: 10
A8: Large alloy rake x 2 | C8: Good | D8: 60
A9: Rubber leaf rake for hard surfaces x 2 | C9: Good | D9: 60
A10: Leaf rake - plastic | C10: Good | D10: 20
A11: Edging knife | C11: Good | D11: 30
A12: Snow plough | C12: Good | D12: 70
A13: Short scythe | C13: Good | D13: 35
A14: Bow saw x 2 | C14: Fair | D14: 40
... A32: metal wheel barrow | C32: Good | D32: 60
A34: Total | D34: =SUM(D3:D33) -> 1656

Sheet 7. Small Shed Cemetery 
A1: Small Wooden Shed - Cemetery
A2: Item | B2: Location | C2: Condition | D2: Replacement Price
A3: PPE Wellingtons | C3: OK | D3: 25
A4: PPE coverall | C4: OK | D4: 35
A5: PPE mask - Moldex | C5: OK | D5: 25
A6: PPE clear face shield | C6: OK | D6: 10
A7: Roundup liquid | C7: OK | D7: 50
A8: Backpack pressure sprayer | C8: OK | D8: 95
A9: PPE Mask filters | D9: 10
A11: Total | D11: =SUM(D3:D10) -> 250

Sheet 8. Brick Shed
A1: Brick Shed Cemetery
A2: Category | B2: Item | C2: Model Number | D2: Serial Number | E2: Location | F2: Condition | G2: Replacement Price
B3: Franc Trailer | C3: Trigano | D3: 13-2007/46-1217 10200MB305067x | F3: Good | G3: 1000
B4: Gas Beacon and gas canister | F4: Good | G4: 399
B5: Alloy ramps | F5: Good | G5: 80
B6: Garden Hose multiple lengths | C6: Hozelock | F6: Good | G6: 100
B7: Steps | F7: Good | G7: 30
B8: Paint assorted | G8: 300
B9: Woodstain x 2 tins | G9: 60
B10: Ladders x 2 | F10: Good | G10: 100
B11: Timber - assorted | F11: useable | G11: 100
B12: Wooden Shelf unit | F12: poor | G12: 50
B13: Fitted work bench | F13: Good | G13: 200
B14: Bench vice | F14: Good | G14: 30
B15: Damaged Gazebo | F15: Broken | G15: 600
B16: Water drums x 8 | F16: Good | G16: 80
B17: Black water butt | F17: Good | G17: 30
B18: Jump leads | F18: Good | G18: 20
B19: Sledge hammer | F19: Good | G19: 30
B20: Hand tools for planting x 4 | F20: Good | G20: 40
B21: Steering wheel lock | F21: Good | G21: 30
... B26: Astro turf for KGV slide | F26: Good | G26: 50
A29: Total | G29: =SUM(G3:G28) -> 3709

Sheet 9. Spout Hills -Container
A1: Container Spout Hills
A2: Category | B2: Item | C2: Model Number | D2: Serial Number | E2: Location | F2: Condition | G2: Replacement Price
A3: Mowers | B3: Weibang Mower | C3: WBBC7623LC | D3: WBC7623LC013B&240516086 | E3: Letheringsett Hill Car Park, Holt, NR25 6BL | F3: Good | G3: 3999
B4: Weibang Mower | C4: WBBC7623LC | D4: WBC7623LC013B&25010535 | E4: Letheringsett Hill Car Park, Holt, NR25 6BL | F4: Good | G4: 3999
B5: D R Mower | C5: A745026BENC | D5: 3003836411 | E5: Letheringsett Hill Car Park, Holt, NR25 6BL | F5: Good | G5: 2599
A6: Machinery | B6: Alko side bar mower | D6: 1802135654782 | E6: Letheringsett Hill Car Park, Holt, NR25 6BL | F6: Good | G6: 1328
B7: Stihl Strimmer | C7: F556-C 4144-011-2357 | D7: 298293602 | E7: Letheringsett Hill Car Park, Holt, NR25 6BL | F7: Good | G7: 350
B8: Echo strimmer | C8: SRM- 236TES | D8: 37007046 | E8: Letheringsett Hill Car Park, Holt, NR25 6BL | F8: Good | G8: 249
A9: Hand Tools | B9: Loppers x6 | E9: Letheringsett Hill Car Park, Holt, NR25 6BL | F9: Good | G9: 283
B10: Bow Saws x5 | E10: Letheringsett Hill Car Park, Holt, NR25 6BL | F10: Good | G10: 63
B11: Spades x3 | E11: Letheringsett Hill Car Park, Holt, NR25 6BL | F11: Good | G11: 60
B12: shovel x3 | E12: Letheringsett Hill Car Park, Holt, NR25 6BL | F12: Good | G12: 60
B13: Garden forks x2 | E13: Letheringsett Hill Car Park, Holt, NR25 6BL | F13: Good | G13: 40
B14: Hoes x2 | E14: Letheringsett Hill Car Park, Holt, NR25 6BL | F14: Good | G14: 47
B15: Lawn Rake x5 | E15: Letheringsett Hill Car Park, Holt, NR25 6BL | F15: Good | G15: 100
B16: Spring rake x2 | E16: Letheringsett Hill Car Park, Holt, NR25 6BL | F16: Good | G16: 40
B17: Extended pole cutter | E17: Letheringsett Hill Car Park, Holt, NR25 6BL | F17: Good | G17: 25
B18: claw hammer | E18: Letheringsett Hill Car Park, Holt, NR25 6BL | F18: Good | G18: 10
A19: Maintenance | B19: Socket set | E19: Letheringsett Hill Car Park, Holt, NR25 6BL | F19: Good | G19: 50
B20: Fuel cans x4 | E20: Letheringsett Hill Car Park, Holt, NR25 6BL | F20: Good | G20: 40
B21: Funnel | E21: Letheringsett Hill Car Park, Holt, NR25 6BL | F21: Good | G21: 10
B22: Saw wood and hack | E22: Letheringsett Hill Car Park, Holt, NR25 6BL | F22: Good | G22: 10
B23: helmets x2 | E23: Letheringsett Hill Car Park, Holt, NR25 6BL | F23: Good | G23: 58
B24: Plyers x2 | E24: Letheringsett Hill Car Park, Holt, NR25 6BL | F24: Good | G24: 16
B25: spanner set | E25: Letheringsett Hill Car Park, Holt, NR25 6BL | F25: Good | G25: 21
A27: Total | G27: =SUM(G3:G26) -> 13457

Sheet 10. Streetlights
A1: STREET NAME | B1: LIGHT NO | C1: LOCATION | D1: TYPE OF POLE | E1: TYPE OF LAMP | F1: OWNED BY | G1: Replacement Value
A2: Albert Street | B2: 1 | C2: At No 19 | D2: On wall | E2: White | F2: Holt Town Council | G2: 250
A3: Albert Street | B3: 2 | C3: At No 5 | D3: On wall | E3: White | F3: Holt Town Council | G3: 250
A4: Albert Street | B4: 3 | C4: At the Old Paul Pry Public House | D4: On wall | E4: White | F4: Holt Town Council | G4: 250
A5: Barrett Road | B5: 4 | C5: Opposite 2 | D5: Medium metal | E5: LED | F5: Holt Town Council | G5: 600
A6: Barrett Road | B6: 5 | C6: Outside 5 | D6: Medium metal | E6: LED | F6: Holt Town Council | G6: 600
A7: Bull Street | B7: 6 | C7: At the old Bull Public House | D7: On wall | E7: White | F7: Holt Town Council | G7: 250
A8: Bull Street | B8: 7 | C8: Corner of the old Star Public House | D8: On wall | E8: White | F8: Holt Town Council | G8: 250
A9: Church Street | B9: 8 | C9: Outside The Owl | D9: Medium metal | E9: LED | F9: Holt Town Council | G9: 600
A10: Church Street | B10: 9 | C10: Outside library | D10: Medium metal | E10: Orange? | F10: Holt Town Council | G10: 600
A11: Cley Road | B11: 10 | C11: Junction with The Fairstead | D11: Electricity Post | E11: White | F11: Holt Town Council | G11: 600
A12: Cley Road | B12: 11 | C12: Opposite 12 | D12: Electricity Post | E12: LED | F12: Holt Town Council | G12: 600
A13: Cley Road | B13: 12 | C13: Outside 28 & 30 | D13: Electricity Post | E13: White | F13: Holt Town Council | G13: 600
... A96: z- Newly Added Fish Hill | B96: 95 | C96: Outside Harris and James | D96: Medium metal | E96: LED | F96: Holt Town Council | G96: 1000
A98: Total | G98: =SUM(G2:G97) -> 53950

Sheet 11. Church St Toilets 
A1: Church Street Toilets Dated June 2026
A2: Category | B2: Item | C2: Location | D2: Condition | E2: Replacement Price
A3: Gents Toilets | B3: Urinal Trough | C3: Church Street Toilets, Church Street, NR25 6BB | D3: Good | E3: 452
B4: Basins x 1 | C4: Church Street Toilets, Church Street, NR25 6BB | D4: Good | E4: 400
B5: Taps x 1 | C5: Church Street Toilets, Church Street, NR25 6BB | D5: Good | E5: 191
B6: Toilet pans x1 | C6: Church Street Toilets, Church Street, NR25 6BB | D6: Good | E6: 348
B7: Hand Soap Dispenser HIRED | C7: Church Street Toilets, Church Street, NR25 6BB | D7: Good | E7: 0
B8: Toilet roll holder x1 | C8: Church Street Toilets, Church Street, NR25 6BB | D8: Good | E8: 0
B9: Hand Dryer - Warner Howard | C9: Church Street Toilets, Church Street, NR25 6BB | D9: Good | E9: 357
B10: Cister Mister Sensor | C10: Church Street Toilets, Church Street, NR25 6BB | D10: Good | E10: 182
B11: Tap Electrics | C11: Church Street Toilets, Church Street, NR25 6BB | D11: Good | E11: 238
B12: Hygiene Bins - Contract | C12: Church Street Toilets, Church Street, NR25 6BB | D12: Good | E12: 0
B13: Modesty Screen | C13: Church Street Toilets, Church Street, NR25 6BB | D13: Good | E13: 105
B14: Toilet brush | C14: Church Street Toilets, Church Street, NR25 6BB | D14: Good | E14: 5
A15: Ladies Toilets | B15: Basin x2 | C15: Church Street Toilets, Church Street, NR25 6BB | D15: Good | E15: 800
B16: Toilet pan x2 | C16: Church Street Toilets, Church Street, NR25 6BB | D16: Good | E16: 696
B17: Taps x2 | C17: Church Street Toilets, Church Street, NR25 6BB | D17: Good | E17: 382
B18: Hand Soap Dispenser HIRED | C18: Church Street Toilets, Church Street, NR25 6BB | D18: Good | E18: 0
B19: Toilet roll holder HIRED | C19: Church Street Toilets, Church Street, NR25 6BB | D19: Good | E19: 0
B20: Hand Dryer - Warner Howard | C20: Church Street Toilets, Church Street, NR25 6BB | D20: Good | E20: 357
B21: Tap electrics | C21: Church Street Toilets, Church Street, NR25 6BB | D21: Good | E21: 445
B22: Hygiene Bins - Contract | C22: Church Street Toilets, Church Street, NR25 6BB | D22: Good | E22: 0
B23: Toilet Brush x2 | C23: Church Street Toilets, Church Street, NR25 6BB | D23: Good | E23: 10
A24: Disabled Toilet | B24: Disabled basin and tap | C24: Church Street Toilets, Church Street, NR25 6BB | D24: Good | E24: 374
B25: Disabled Toilet Pan | C25: Church Street Toilets, Church Street, NR25 6BB | D25: Good | E25: 105
B26: Hand Soap Dispenser HIRED | C26: Church Street Toilets, Church Street, NR25 6BB | D26: Good | E26: 0
B27: Toilet roll holder HIRED | C27: Church Street Toilets, Church Street, NR25 6BB | D27: Good | E27: 0
B28: Nappy Change Bin | C28: Church Street Toilets, Church Street, NR25 6BB | D28: Good | E28: 0
B29: Baby Change Unit | C29: Church Street Toilets, Church Street, NR25 6BB | D29: Good | E29: 348
B30: Hand Rails x4 | C30: Church Street Toilets, Church Street, NR25 6BB | D30: Good | E30: 60
B31: Hand Dryer - Warner Howard | C31: Church Street Toilets, Church Street, NR25 6BB | D31: Good | E31: 357
B32: Tap electrics | C32: Church Street Toilets, Church Street, NR25 6BB | D32: Good | E32: 238
B33: Toilet Brush | C33: Church Street Toilets, Church Street, NR25 6BB | D33: Good | E33: 5
B34: Hygiene Bins - Contract | C34: Church Street Toilets, Church Street, NR25 6BB | D34: Good | E34: 0
A35: Exterior | B35: Metal Gate | C35: Church Street Toilets, Church Street, NR25 6BB | D35: Good | E35: 191
B36: Metal Gabions and Flint x15 | C36: Church Street Toilets, Church Street, NR25 6BB | D36: Good | E36: 1500
B37: Hand rails 20 metres | C37: Church Street Toilets, Church Street, NR25 6BB | D37: Good | E37: 676
B38: Rubbish bin | C38: Church Street Toilets, Church Street, NR25 6BB | D38: Good | E38: 210
B39: Key safe | C39: Church Street Toilets, Church Street, NR25 6BB | D39: Good | E39: 20
B40: Grit Bin | C40: Church Street Toilets, Church Street, NR25 6BB | D40: Good | E40: 250
A41: Utility Cupboard | B41: Consumables | C41: Church Street Toilets, Church Street, NR25 6BB | D41: Good | E41: 500
A42: CCTV | B42: x2 cameras | C42: Church Street Toilets, Church Street, NR25 6BB | D42: Good | E42: 2500
A43: Traffic Signs | C43: Church Street Toilets, Church Street, NR25 6BB | D43: Fair | E43: 1025
A44: Total Cost | E44: =SUM(E3:E43) -> 13327
